BEGIN:VCALENDAR
VERSION:2.0
PRODID:-//Core Awareness - ECPv6.15.13//NONSGML v1.0//EN
CALSCALE:GREGORIAN
METHOD:PUBLISH
X-WR-CALNAME:Core Awareness
X-ORIGINAL-URL:https://coreawareness.com
X-WR-CALDESC:Events for Core Awareness
REFRESH-INTERVAL;VALUE=DURATION:PT1H
X-Robots-Tag:noindex
X-PUBLISHED-TTL:PT1H
BEGIN:VTIMEZONE
TZID:America/Chicago
BEGIN:DAYLIGHT
TZOFFSETFROM:-0600
TZOFFSETTO:-0500
TZNAME:CDT
DTSTART:20200308T080000
END:DAYLIGHT
BEGIN:STANDARD
TZOFFSETFROM:-0500
TZOFFSETTO:-0600
TZNAME:CST
DTSTART:20201101T070000
END:STANDARD
BEGIN:DAYLIGHT
TZOFFSETFROM:-0600
TZOFFSETTO:-0500
TZNAME:CDT
DTSTART:20210314T080000
END:DAYLIGHT
BEGIN:STANDARD
TZOFFSETFROM:-0500
TZOFFSETTO:-0600
TZNAME:CST
DTSTART:20211107T070000
END:STANDARD
BEGIN:DAYLIGHT
TZOFFSETFROM:-0600
TZOFFSETTO:-0500
TZNAME:CDT
DTSTART:20220313T080000
END:DAYLIGHT
BEGIN:STANDARD
TZOFFSETFROM:-0500
TZOFFSETTO:-0600
TZNAME:CST
DTSTART:20221106T070000
END:STANDARD
BEGIN:DAYLIGHT
TZOFFSETFROM:-0600
TZOFFSETTO:-0500
TZNAME:CDT
DTSTART:20230312T080000
END:DAYLIGHT
BEGIN:STANDARD
TZOFFSETFROM:-0500
TZOFFSETTO:-0600
TZNAME:CST
DTSTART:20231105T070000
END:STANDARD
END:VTIMEZONE
BEGIN:VTIMEZONE
TZID:UTC
BEGIN:STANDARD
TZOFFSETFROM:+0000
TZOFFSETTO:+0000
TZNAME:UTC
DTSTART:20160101T000000
END:STANDARD
END:VTIMEZONE
BEGIN:VEVENT
DTSTART;TZID=America/Chicago:20220223T093000
DTEND;TZID=America/Chicago:20221130T133000
DTSTAMP:20260422T035603
CREATED:20211211T133919Z
LAST-MODIFIED:20220217T142039Z
UID:10000606-1645608600-1669815000@coreawareness.com
SUMMARY:10-Month Professional Application Course (30-hr NCBTMB Accredited) Online Course 2022
DESCRIPTION:  \n \n“Thank you for your impressive way of sharing your being and showing us how to land into our ground\, where our NS can rest deeply\, and we start to experience authenticity and integrity. For me it is only a beginning\, but so inviting that once on this path\, one is eager to discover more. What I can integrate during this application course\, I can surely bring alive with myself and my clients.             ~ Hilde Naedts – Psychotherapist – Belgium (2021) \n“Working with Liz brought me in contact with myself\, who I truly am\, from my inner being.  Meeting for 10 months gave me time to integrate. In addition\, the individual sessions\, midmonth gatherings\, and all the material really enriched the process!”            ~ Désirée Bourgonje – Healing Tao – Netherlands (2021)  \n\n“As a bodyworker for 34 years\, the 10-month Application course with Liz Koch for me was a journey of self-exploration into transformation.  It deepened my relationship with my clients’ needs and enabled me to meet them where they are in the moment\, without an agenda of my own. I came out of the course with valuable\, tangible\, easy-to-implement tools to share with my clients that deepens their own bodies’ innate healing capacity.” ~ Lori Rizzuto\, Lic. MsT\, Bowen Practitioner – Maine \n~    ~    ~    ~    ~    ~    ~ \nEach year I offer my PROFESSIONAL APPLICATION COURSE but due to COVID  I’ve postpone this LIVE course in the USA until 2023. Instead\, I am offering a 10-Month Application Online Course via Zoom.  Please note only 30 of the required 43  participatory hours will be applied to the NCBTMB certification – this course is designed to deepen your experience of psoas \nand yourself as an integral creative expression in the world \n10-Month Application Course for Professionals includes \n1) Meeting the 4th Wednesday every month (4 hours) we will focus on: \n\nConceptual Understanding of Your Healthy Psoas \nThe Primal Brain and Instinctual Psoas in order to hone your ability to track and show up integral in your life and profession  \nFunctional Applications and Foundational Resources for integrating the Conceptual/Paradigm Shifts into your life and expertise\nHomework Explorations and One Presentation for deepening and personalizing your experience\n\n2) Mid-month Peer-Support Group to discuss each Months Conceptual Focus & Explorations \n3) Two 30-minute Private Consultations with Liz Koch (evaluation at beginning and the other at the end of the course)    \n \n  \n The Application Course offers those licensed as Somatic Educators\, Yoga Instructors\, Pilates & Gyrotonic Trainers\, Massage Practitioners\, Body & Healing Practitioners; as well as Birth & Fitness Coaches\, Dance Therapists\, Martial Arts Instructors\, plus all psychologists\, trauma and embodiment educators to develop into Psoas Savvy educators\, capable of helping others integrate and resolve psoas related issues. This course is an opportunity to heal your own psoas issues while bringing psoas awareness to your professional life. \nCompleting the Application Course is a prerequisite but not necessarily a guarantee for joining my online Community and referral page where people can locate Psoas savvy classes and therapists in their community. \n ~     ~    ~    ~      ~ \nStep away from your dedicated focus to deepen and broaden your perspective and experience your bio-intelligent core tissue called psoas. By doing so\, your own psoas becomes a guide for self actualization that informs your work from deep within your core being.  A healthy psoas is the first step towards functional movement and a coherent nervous system. Having a coherent core not only supports our capacity for core strength and integrity but also nourishing a resilient life; thus offering essential components for achieving your professional goals. \nInspire your  personal and professional life  \n \nGROUP SIZE: This ONLINE Application Course is limited to a maximum of 15 participants  \nPREREQUISITE & REQUIREMENTS: You must be a professional: certified and/or licensed in your field (no laypersons please) and have attended a minimum of one BASIC 12-hr Psoas Workshop and preferably one Stalking Wild Psoas Workshop or 3 FLUID CORE Zoom Classes.  Please register only if qualified.  Please note: You are required to attend all classes to receive NCBTMB certification and/or be eligible for my online community.  \nDATES: February 23/ March 23/ April 27/ May 25/ June 22/ July 27 August 24/ September 28/ October 26/ November 30/ \nNEXT LIVE: Professional Application Course currently scheduled in Denmark for Fall 2022
URL:https://coreawareness.com/events/10-month-professional-application-ncbtmb-accredited-2022/
LOCATION:Your home
CATEGORIES:Application Course,Online Class,Professional Training
ATTACH;FMTTYPE=image/jpeg:https://coreawareness.com/wp-content/uploads/2021/12/photo-10-month-f.jpg
ORGANIZER;CN="Liz Koch":MAILTO:liz@coreawareness.com
END:VEVENT
BEGIN:VEVENT
DTSTART;TZID=America/Chicago:20210224T093000
DTEND;TZID=America/Chicago:20211221T133000
DTSTAMP:20260422T035603
CREATED:20210103T001103Z
LAST-MODIFIED:20210225T181922Z
UID:10000426-1614159000-1640093400@coreawareness.com
SUMMARY:10-Month Professional Application Course (30-hr NCBTMB Certified) Webinar Course 2021
DESCRIPTION:Each year I offer my PROFESSIONAL APPLICATION COURSE but due to COVID  I’ve postpone this LIVE course in the USA until 2022. Instead\, I will be offering a 10-Month Application Webinar Course via Zoom.  Please note only 30 of the required 43  participatory hours will be applied to the NCBTMB certification – this course is designed to deepen your experience of psoas: \n10-Month Application Course for Professionals includes \n1) Meeting the 4th Wednesday of every month (4 hours) we will focus on: \n\nConceptual Understanding of the Healthy Psoas\nTraining Your Eye to understand the Dysfunctional Psoas\nFunctional Applications and additional resources for applying to your expertise\nHomework Explorations and one presentation for deepening your Experience\n\n2) Mid-month Peer-Support Group to discuss each Months Conceptual Focus & Explorations \n3) Two 30-minute Private Consultation with Liz Koch (evaluation at beginning and the other at the end of the course)    \n The Application Course offers those licensed as Somatic Educators\, Yoga Instructors\, Pilates & Gyrotonic Trainers\, Massage Practitioners\, Body & Healing Practitioners; as well as Birth & Fitness Coaches\, Dance Therapists\, Martial Arts Instructors\, plus all psychologists\, trauma and embodiment educators to develop into Psoas Savvy educators\, capable of helping others integrate and resolve psoas related issues. This course is an opportunity to heal your own psoas issues while bringing psoas awareness to your professional life. \nCompleting the Application Course is a prerequisite but not necessarily a guarantee for joining my online Community and referral page where people can locate Psoas savvy classes and therapists in their community. \nNOTE: Please note there is a live Application Course currently scheduled in Denmark for 2021 and another in the USA for 2022.  \nStep away from your dedicated focus to deepen and broaden your perspective and experience your bio-intelligent core tissue called psoas. By doing so\, your own psoas becomes a guide for self actualization that informs your work from deep within your core being.  A healthy psoas is the first step towards functional movement and a coherent nervous system. Having a coherent core not only supports our capacity for core strength and integrity but also being deeply nourished and reslient in life; thus offering essential components for achieving your professional goals. \nInspire your  personal and professional life  \n \nGROUP SIZE: This ONLINE Application Course is limited to a maximum of 20 participants  \nPREREQUISITE & REQUIREMENTS: You must be a professional: certified and/or licensed in your field (no laypersons please) and have attended a minimum of one BASIC 12-hr Psoas Workshop and one STALKING Wild Psoas Workshop.  Please register only if qualified.  Please note: You are required to attend all classes to receive NCBTMB certification or be eligible for my online community. 
URL:https://coreawareness.com/events/10-month-professional-application-course-30-hr-ncbtmb-certified-webinar-course-2021/
LOCATION:Your home
CATEGORIES:Application Course,Online Class
ATTACH;FMTTYPE=image/jpeg:https://coreawareness.com/wp-content/uploads/2021/01/rio-5-600x533-1.jpg
ORGANIZER;CN="Liz Koch":MAILTO:liz@coreawareness.com
END:VEVENT
BEGIN:VEVENT
DTSTART;TZID=UTC:20180128T193000
DTEND;TZID=UTC:20180204T180000
DTSTAMP:20260422T035603
CREATED:20170914T055611Z
LAST-MODIFIED:20180809T204542Z
UID:10000402-1517167800-1517767200@coreawareness.com
SUMMARY:6-Day Professional Application Course & Retreat Ojo Caliente New Mexico
DESCRIPTION:Be inspired from the inside out! \nEach year I offer my HEALING RETREAT and APPLICATION COURSE for lay persons and professionals. This course is an opportunity to heal your own Psoas issues and bring Psoas Awareness to your personal and professional life.  The Application Course offers those licensed as Somatic Educators\, Yoga Instructors\, Pilates & Gyrotonic Trainers\, Massage Practitioners\, Body & Healing Practitioners; as well as Birth & Fitness Coaches\, Dance Instructors\, Martial Arts Masters\, plus more professionals\, to develop into Psoas Savvy Educators\, capable of helping others with their Psoas related problems. Completing this 30-Hr course is a prerequisite for joining my online Community referral page where people can find Psoas savvy classes and therapists in their communities. \nStep away from your dedicated focus to broaden your perspective and experience the bio-intelligent Psoas. By doing so\, your Psoas becomes a guide for self actualization that helps inform you from deep within your very core being. \nA healthy Psoas is the first step toward functional movement. Having a coherent core not only supports the capacity of core strength but is deeply nourishing to every aspect of your being\, and creatively freeing. All essential components for achieving your professional goals. \nInspire your  life and your specialization. Join me! \nGroup size: limited to a maximum of 17 participants  (during your stay\, family & friends are welcome to join you at the Spa Resort) \n \nPrerequisite: To attend the retreat and/or Nationally Certified Application Course you are required to complete one Psoas workshop or Remote/Audio-class.  To be potentially included on my LINKS referral page requires a minimum of attending a 12 or 18 hour Psoas Workshop plus this 30-Hour Application Course.  Please note: I reserve the right to deny anyone for any reason to be included on my Community Web page. \n \nACCOMMODATIONS: Please visit www.ojocalientesprings.com web site for accommodation options and rates\, dining options\, travel plans\, and spa choices.  If you wish to share a room please first register for the course and then email me to let me know you are interested.  I can not guarantee a roommate but will be happy to share your email with anyone else looking to share accommodations. There are many choices in rooms and each has unique possibilities so please feel free to contact me for suggestions as to which will best suit your needs. \nWe will be in New Mexico in the wintertime.  It is very beautiful but may be cold and it may even snow!  Plan accordingly. For those interested there  is skiing options nearby – please direct all your questions about the location to Ojo Caliente Spa. \nWINTER SPECIAL: Accommodations are first come first serve basis. Be sure to mention you are part of Liz Koch’s Core Awareness group.  Although there is no group rate Ojo Caliente Spa often offers a 2 nights get one free winter special so be sure to see what they are offering. Please also check as some restrictions do apply. \nIMPORTANT: To be part of the Application Course you must arrive Sunday\, January 28th to join us at 7:30 pm and leave after 6:00pm on Saturday\, February 3rd – this course comes to an end with a full day on Saturday.   To receive a certificate you are required to attend the full workshop portion of the course. \nRETREAT ONLY: You do not have to be a professional to come work/play for 6 days.  You do have to have the pre-requiste of at least a tele-class and to arrive on time. \n \n  \n \nNational Certification Board for Therapeutic Massage & Bodywork (NCBTMB) Approved \nThis is approved by the National Certification Board for Therapeutic Massage & Bodywork for 30 hours of continuing education credit (CEU). For more information on the NCBTMB\, please visit their website.
URL:https://coreawareness.com/events/6-day-application-course-retreat-ojo-caliente-new-mexico/
LOCATION:Ojo Caliente Spa\, 50 Los Banos Drive\, Ojo\, NM\, 87549\, United States
CATEGORIES:Application Course,Retreat
ATTACH;FMTTYPE=image/jpeg:https://coreawareness.com/wp-content/uploads/2016/06/images1.jpg
GEO:36.3054901;-106.0515957
X-APPLE-STRUCTURED-LOCATION;VALUE=URI;X-ADDRESS=Ojo Caliente Spa 50 Los Banos Drive Ojo NM 87549 United States;X-APPLE-RADIUS=500;X-TITLE=50 Los Banos Drive:geo:-106.0515957,36.3054901
END:VEVENT
BEGIN:VEVENT
DTSTART;TZID=UTC:20171105T190000
DTEND;TZID=UTC:20171110T210000
DTSTAMP:20260422T035603
CREATED:20170603T053702Z
LAST-MODIFIED:20171110T041351Z
UID:10000398-1509908400-1510347600@coreawareness.com
SUMMARY:Professional Application Course Blue Lagoon Iceland
DESCRIPTION:A Healthy Psoas is the first step toward functional movement ~ Liz Koch \nDUE TO COURSE REQUIREMENTS FOR ACCOMMODATIONS  – DEADLINE FOR SECURING ACCOMMODATIONS IS SEPTEMBER 4TH \n\n For several years I have offered my 30-Hour APPLICATION COURSE for professionals at the Blue Lagoon in Iceland (please note: last opportunity to take this course in ICELAND).  This course is an opportunity to heal your own psoas while integrating awareness of this subtle tissue into your profession. The course offers those licensed as Somatic Educators\, Yoga Teachers\, Pilates & Gyrotonic Instructors\, Massage Practitioners\, Body Workers & Healers; as well as Birth & Fitness Coaches\, Dance Instructors\, Martial Artists\, and more… the opportunity to develop into Psoas Savvy Professionals capable of helping others with their psoas-related problems. Completing the course entitles you to submit an application to join my COMMUNITY on my website referral page and become a resource for those looking close to home for educators and practitioners knowledgeable about the psoas. \nStep away from your dedicated training to widen your perspective and experience the bio-intelligent psoas. By doing so\, your psoas becomes a messenger from deep within. Gaining a coherent core is deeply nourishing\, creatively freeing\, and profoundly enhances the quality of your specialized profession. \nInspire your professional life. Join me! \nMaximum Group Size is limited to 12 professionals \nPrerequisite: To attend the USA Nationally Certified Application Course you are required to complete (in person) one 12 or 18-Hour Psoas Workshop.  To be potentially included on my COMMUNITY referral page requires a minimum of attending one 12 or 18-hour Psoas Workshops plus this 30-hour Professional Application Course.  Please note: I reserve the right to deny anyone for any reason to be included on my COMMUNITY Web page. \nIMPORTANT NOTE: To be part of the Application Course you must arrive by Sunday\, November 5th and  join us at 7:00 pm and depart no earlier than Saturday\, November 11th – this course comes to an end with a full day on Friday (November 10) until 9:00 pm. To receive a certificate or to apply for my COMMUNITY links page you are required to attend the full workshop. \n\n  \nCANCELLATION POLICY: Registration Final. Please be sure to read my cancellation policy available online before registering. The workshop registration is final and has no refunds. If there is a waiting list\, a transfer fee may apply \nVENUE: The Silica Hotel (Blue Lagoon Clinic) is located a short walking distance from the public Blue Lagoon Spa.  The hotel provides us with access to waters separate from the Spa (see above photo). Our studio workshop this year has moved to the Blue Lagoon.  Incredibly healing the lagoon is located in a lava field in southwestern Iceland approximately 30 minutes from the airport and 45 minutes from the city of Reykjavik. A man-made lagoon\, fed by the water output of the nearby geothermal water and renewed every two days\, it is rich in minerals specifically silica (known to plump up collagen and hydrate tissue). \nACCOMMODATIONS: A shared room for 6 nights (arriving November 5 and Departing November 11th)  is approximately 1514.00 EUROs per person.  The price is including taxes\, service charges\, complimentary breakfast and one standard admission ticket for per person for per night for Blue Lagoon which is located about 600 meters away from the clinic hotel\, 10 minute walking distance. You will also have unlimited access to the private lagoon at Blue Lagoon Clinic Hotel from 09:00 – 22:00 o’clock during your stay. Your room accommodations fee is a separate price from the Workshop Fee (see below)\, It will be paid directly to the Clinic (credit card information will be requested ahead of time and a deposit may be required). However I am taking the initial room reservations for my group – so please email me directly. \nYour accommodations include a shared room with lovely views of the lava fields\, a nourishing\, delicious complimentary Icelandic full breakfast\, a free daily pass to the Blue Lagoon Spa\, and access to the private waters right next to your room.  The Clinic is small and has limited room accommodations – please be aware you will need to share your room with another participant unless told otherwise by me Liz Koch. I must request people share so that we can all be at the Clinic together.  I am also stipulating that you must stay at the Clinic (along with me) so that we can meet several times each day\, some evenings\, and share our experience together.  It is too difficult to go back and forth to the city. If this is unacceptable please do not sign up for this course location. \nThe hotel/clinic has bright and spacious twin bed rooms that offer private facilities and a veranda\, with breathtaking views of the surrounding lava fields. All rooms are equipped with private bathrooms and a shower – the Spa also has full shower facilities.  Your room includes: \n\nTelevision\nWi-Fi connection\nTelephone\nHair dryer\nBathrobes\nTowels\nRefrigerator\nTea kettle\nAccess to gym facilities\nPrivate geothermal lagoon\nEasy Walk to the Blue Lagoon Spa
URL:https://coreawareness.com/events/professional-application-course-blue-lagoon-iceland/
LOCATION:The Silica Hotel\, Blue Lagoon Spa/Clinic\, Iceland\, Iceland
CATEGORIES:Application Course
ATTACH;FMTTYPE=image/jpeg:https://coreawareness.com/wp-content/uploads/2017/06/o-BLUE-LAGOON-570.jpg
GEO:63.880391;-22.449509
X-APPLE-STRUCTURED-LOCATION;VALUE=URI;X-ADDRESS=The Silica Hotel Blue Lagoon Spa/Clinic Iceland Iceland;X-APPLE-RADIUS=500;X-TITLE=Blue Lagoon Spa/Clinic\, Iceland:geo:-22.449509,63.880391
END:VEVENT
END:VCALENDAR