BEGIN:VCALENDAR
VERSION:2.0
PRODID:-//Core Awareness - ECPv6.15.13//NONSGML v1.0//EN
CALSCALE:GREGORIAN
METHOD:PUBLISH
X-ORIGINAL-URL:https://coreawareness.com
X-WR-CALDESC:Events for Core Awareness
REFRESH-INTERVAL;VALUE=DURATION:PT1H
X-Robots-Tag:noindex
X-PUBLISHED-TTL:PT1H
BEGIN:VTIMEZONE
TZID:UTC
BEGIN:STANDARD
TZOFFSETFROM:+0000
TZOFFSETTO:+0000
TZNAME:UTC
DTSTART:20160101T000000
END:STANDARD
END:VTIMEZONE
BEGIN:VEVENT
DTSTART;TZID=UTC:20171003T090000
DTEND;TZID=UTC:20171005T170000
DTSTAMP:20260422T035752
CREATED:20170604T223347Z
LAST-MODIFIED:20171003T224513Z
UID:10000399-1507021200-1507222800@coreawareness.com
SUMMARY:Psoas During Pregnancy\, Birth\, & Postpartum Copenhagen
DESCRIPTION:3-Day (18 Hr) Psoas workshop focusing on Pregnancy\, Birth\, & Postpartum organized by the Birth Community COPENHAGEN DOULAS. For all information on the workshop please go to www.copenhagendoulas.dk (professional) or email Louise Timm or Karina Isolde: mail@copenhagendoulas.dk \n  \nTHIS WORKSHOP TAKES PLACE ON A TUESDAY\, WEDNESDAY\, AND THURSDAY \nA workshop open to EVERY-BODY interested in birthing\, women\, and happy outcomes.  Psoas release work enhances every aspect of a woman’s pregnancy\, the birth process\, and the postpartum.  This workshop educates not only women but also the midwives\, doulas\, birth-keepers and partners who tend them. Teaching women the importance of their Psoas through every phase offers them a self-help tool that can easily be integrated into their prenatal exercise and relaxation routines. \nA Healthy Psoas: \n\nOffers skeletal support for releasing back pain and tension throughout pregnancy & birth\n\n\nReleases unfounded fear deepening a woman’s instinctual responses\n\n\nIgnites the intuitive belly brain\, centers\, and empowers every aspect of becoming a mother\n\n\nShortens labor and eases birth offering their baby guidance through the spiral descent\n\n\nEnhances a woman shape-shifting\, opening; offering an effective alternative to induction\n\n\nSupports the functionally balanced pelvis through each transition and postpartum recovery\n\n\nProvides a core sense of integrity\, trust\, and pleasure through the journey into motherhood\n\nRECOMMENDED READING: The Psoas Book \nREGISTRATION: Louise Timm or Karina Isolde: mail@copenhagendoulas.dk\n  \nCANCELLATION POLICY: All International workshops registrations are final and have no refunds. Please read my complete cancellation policy available online before registering. If there is a waiting list\, a transfer fee will apply. \n  \n 
URL:https://coreawareness.com/events/psoas-during-pregnancy-birth-postpartum-copenhagen/
LOCATION:SOUL – centre of the body and mind\, 18 Huia Road\, Titrangi\, Auckland\, 2200 København N\, 0604\, New Zealand
CATEGORIES:Workshop
ATTACH;FMTTYPE=image/jpeg:https://coreawareness.com/wp-content/uploads/2017/06/Birth-Workshop-17.jpg
GEO:55.6916056;12.543601
X-APPLE-STRUCTURED-LOCATION;VALUE=URI;X-ADDRESS=SOUL – centre of the body and mind 18 Huia Road Titrangi Auckland 2200 København N 0604 New Zealand;X-APPLE-RADIUS=500;X-TITLE=18 Huia Road\, Titrangi:geo:12.543601,55.6916056
END:VEVENT
END:VCALENDAR