BEGIN:VCALENDAR
VERSION:2.0
PRODID:-//Core Awareness - ECPv6.15.13//NONSGML v1.0//EN
CALSCALE:GREGORIAN
METHOD:PUBLISH
X-WR-CALNAME:Core Awareness
X-ORIGINAL-URL:https://coreawareness.com
X-WR-CALDESC:Events for Core Awareness
REFRESH-INTERVAL;VALUE=DURATION:PT1H
X-Robots-Tag:noindex
X-PUBLISHED-TTL:PT1H
BEGIN:VTIMEZONE
TZID:America/Chicago
BEGIN:DAYLIGHT
TZOFFSETFROM:-0600
TZOFFSETTO:-0500
TZNAME:CDT
DTSTART:20210314T080000
END:DAYLIGHT
BEGIN:STANDARD
TZOFFSETFROM:-0500
TZOFFSETTO:-0600
TZNAME:CST
DTSTART:20211107T070000
END:STANDARD
BEGIN:DAYLIGHT
TZOFFSETFROM:-0600
TZOFFSETTO:-0500
TZNAME:CDT
DTSTART:20220313T080000
END:DAYLIGHT
BEGIN:STANDARD
TZOFFSETFROM:-0500
TZOFFSETTO:-0600
TZNAME:CST
DTSTART:20221106T070000
END:STANDARD
BEGIN:DAYLIGHT
TZOFFSETFROM:-0600
TZOFFSETTO:-0500
TZNAME:CDT
DTSTART:20230312T080000
END:DAYLIGHT
BEGIN:STANDARD
TZOFFSETFROM:-0500
TZOFFSETTO:-0600
TZNAME:CST
DTSTART:20231105T070000
END:STANDARD
END:VTIMEZONE
BEGIN:VEVENT
DTSTART;TZID=America/Chicago:20220923T090000
DTEND;TZID=America/Chicago:20220924T170000
DTSTAMP:20260421T035639
CREATED:20220624T223310Z
LAST-MODIFIED:20230721T134850Z
UID:10000619-1663923600-1664038800@coreawareness.com
SUMMARY:Nourishing Expression: Fluid Psoas\, Primal Gestures & Archetypal Qigong ~ Oslo Norway
DESCRIPTION:Fluid Psoas\, Primal Gestures\, & Archetypal Qigong\nNourishing Expression\na collaboration of energetic force\nwith\nLiz Koch & Sarah Byrden\n\nphoto credit Nghang Vu (Pixabay)\n\nThe confluence of our two bodies of work creates a unique alchemy and synergy. Together they touch\, awaken\, and nourish a deep longed for place\, returning us to the truth of our fluid form\, to the mystery\, miracle\, and intelligence of our human life.  Weaving a thread back into the web of life you will leave this workshop with greater coherence\, resilience\, and sustenance having touched and played in the field of both origin and possibility. \nWhen perceived through the living matrix of embryology\, our Psoas becomes smart tissue\, growing out of a vibrant\, intelligent midline ~ the central axis.  A Primal NeuroCore\, Psoas is rooting tissue that emerges from the very core of our being and grounds us into the gravitational energies of life on earth. When reframed\, healthy psoas is fluid juicy tissue  ~ dynamically expressive and soulfully responsive. \nThe expression and exploration of Archetypal Qigong is a somatic participation in medicinal gestures that offer us maps\, mirrors and potent energetic medicine. Through the forms we literally move our way into a conversation with the wisdom\, resources\, and deep memory of the archetypal world of patterns and stories that hold keys to our potential\, integration\, and creative power. Each form holds a different medicine. What is it to inhabit and cultivate patterns of surrender\, protection\, courage\, hope\, trust\, eros\, deep yin power\, and yang beauty?  Archetypal Qigong helps us meet the ever-evolving world by shifting us from mere ideals into a felt-sense inhabitance of life’s vital energies. \n\n\nSarah Byrden has been a somatic practitioner\, educator and  wilderness guide for over 20 years. She is a two time TEDx presenter\,  has dedicated over twenty years to the deep study and apprenticeship of nature-based and movement modalities. Teaching from her own life-long journey\, Sarah is the founder of The Elemental Self\, which offers pathways for remembering true self\, the web in which we belong\, and our innate capacity to move and be moved by a source beyond our conditioning.\n\n\n\n\n\n\n Liz Koch is a conceptual artist exploring the deep sensory system and the wild wisdom of core Psoas. An international somatic educator and author with 45 years of experience\, she is the creator of Core Awareness™ and the author of The Psoas Book; Core Awareness: Enhancing Yoga\, Pilates\, Exercise & Dance; Stalking Wild Psoas: Embodying Your Core Intelligence; and her upcoming book Birth Savvy. Liz focuses on kinesthetic intelligence and somatic awareness as a means for developing our human potential. Stalking Wild Psoas is her passion and Changing the Language of Body is her mission.
URL:https://coreawareness.com/events/psoas-primal-gestures-archetypal-qigong/
LOCATION:Under Livet\, Kjelsåsveien 174 (inngang B)\, Oslo\, 0884\, Norway
CATEGORIES:featured,Workshop
ATTACH;FMTTYPE=image/jpeg:https://coreawareness.com/wp-content/uploads/2022/06/norway.jpg
END:VEVENT
END:VCALENDAR